BEGIN:VCALENDAR
VERSION:2.0
PRODID:-//wp-events-plugin.com//7.2.3.1//EN
BEGIN:VEVENT
UID:20@themarriageoffice.com.au
DTSTART;TZID=Australia/Perth;VALUE=DATE:20261010
DTEND;TZID=Australia/Perth;VALUE=DATE:20261011
DTSTAMP:20260424T050640Z
URL:https://themarriageoffice.com.au/events/lucky-date-wedding-day-10-10-2
 6/
SUMMARY:Lucky Date Wedding: 10 10 26
DESCRIPTION:Good Luck Wedding Dates\nLooking for a good luck wedding date? 
 10 10 26\nSometimes\, a lucky date to get married comes up\, and it books 
 out quickly. Hello 10 October 2026! The Marriage Office is opening for thi
 s lucky date to get married. \n[gallery size="full" ids="1971\,1972\,1973
 "]\n&nbsp\;\n\nWhen a lucky date to get married comes up\, OF COURSE WE AR
 E GOING TO OPEN !\n\n\n\n\nHellooooooo 10 October 2026!\n\n\n\nCombining 1
  (initiative\, leadership) and 0 (potential\, infinity)\, 1010 symbolises 
 a perfect blend of taking control of your destiny while having infinite po
 tential.\n(And if you add up 2026\, it equals 10! This represents a\, tech
 nologically-inclined "binary" pattern: one-zero-one-zero-one-zero).\n\n\n\
 nThe end of being "single" and the start of being "married"... Such good j
 uju!\n\n\n\nBonus: it's an easy date to remember so an anniversary will ne
 ver be forgotten!\n\n\n\n\nCelebrant Anita Revel invites you to join her a
 t the Marriage Office on this lucky date to get married. Photo: Ellobova P
 hotography\n\n\n\n\nAnd for added luck\, schedule your ceremony to start w
 ithin a waxing moon or on the 'upswing' of the clock—eg 4:30 and 4:59. T
 he symbolism is that your happiness will keep swinging up\, too.\n\n\n\nWo
 uld you like to join us that day?\n\n\n\nCeremonies will be given a one-ho
 ur timeslot\, starting on the half-past o'clock for that extra good luck. 
 Get in touch with your preferred time\, and let's get you hitched on this 
 lucky date to get married!\n\n\n\nStarting from 9.30am\, and available all
  day\, to fit in with the "upswing" of the clock if you wish.\n\n\n\nPsst:
  add a photographer to your package. Recommendations of our fave photograp
 hers will be emailed along with your quote. The banner image on this page 
 was taken by Ellobova Photography.  \nBook this lucky date to get married
 ...\n\n\n
ATTACH;FMTTYPE=image/jpeg:https://themarriageoffice.com.au/wp-content/uplo
 ads/2026/04/mrmo-lisa-pete.jpg
CATEGORIES:Lucky Date
LOCATION:Margaret River Marriage Office\, 1 Lovers Lane\, Cowaramup\, Weste
 rn Australia\, 6284\, Australia
X-APPLE-STRUCTURED-LOCATION;VALUE=URI;X-ADDRESS=1 Lovers Lane\, Cowaramup\,
  Western Australia\, 6284\, Australia;X-APPLE-RADIUS=100;X-TITLE=Margaret 
 River Marriage Office:geo:0,0
END:VEVENT
BEGIN:VTIMEZONE
TZID:Australia/Perth
X-LIC-LOCATION:Australia/Perth
BEGIN:STANDARD
DTSTART:20251010T000000
TZOFFSETFROM:+0800
TZOFFSETTO:+0800
TZNAME:AWST
END:STANDARD
END:VTIMEZONE
END:VCALENDAR