BEGIN:VCALENDAR
VERSION:2.0
PRODID:-//wp-events-plugin.com//7.2.3.1//EN
BEGIN:VEVENT
UID:21@themarriageoffice.com.au
DTSTART;TZID=Australia/Perth;VALUE=DATE:20261111
DTEND;TZID=Australia/Perth;VALUE=DATE:20261112
DTSTAMP:20260424T050917Z
URL:https://themarriageoffice.com.au/events/lucky-date-wedding-day-11-11-2
 6/
SUMMARY:Lucky Date Wedding: 11 11 26
DESCRIPTION:Good Luck Wedding Dates\nLooking for a good luck wedding date? 
 11 11 26\nSometimes\, a lucky date to get married comes up\, and it books 
 out quickly. Hello 11 November 2026! The Marriage Office is opening for th
 is lucky date to get married. \n[gallery size="full" ids="1971\,1972\,197
 3"]\n&nbsp\;\n\nWhen a lucky date to get married comes up\, OF COURSE WE A
 RE GOING TO OPEN !\n\n\n\n\nHellooooooo 11 November 2026!\n11:11 is consid
 ered lucky because it is viewed as a "master number" in numerology\, repre
 senting a powerful\, auspicious moment for spiritual connection\, manifest
 ation\, and setting intentions.\nIt is often interpreted as a "portal" or 
 sign from the universe/angels that you are on the right path.\nThe end of 
 being "single" and the start of being "married"... Such good juju!\n\n\n\n
 Bonus: it's an easy date to remember so an anniversary will never be forgo
 tten!\n\n\n\n\nCelebrant Anita Revel invites you to join her at the Marria
 ge Office on this lucky date to get married. Photo: Ellobova Photography\n
 \n\n\n\nAnd for added luck\, schedule your ceremony to start within a waxi
 ng moon or on the 'upswing' of the clock—eg 4:30 and 4:59. The symbolism
  is that your happiness will keep swinging up\, too.\n\n\n\nWould you like
  to join us that day?\n\n\n\nCeremonies will be given a one-hour timeslot\
 , starting on the half-past o'clock for that extra good luck. Get in touch
  with your preferred time\, and let's get you hitched on this lucky date t
 o get married!\n\n\n\nStarting from 9.30am\, and available all day\, to fi
 t in with the "upswing" of the clock if you wish.\n\n\n\nPsst: add a photo
 grapher to your package. Recommendations of our fave photographers will be
  emailed along with your quote. The banner image on this page was taken by
  Ellobova Photography.  \nBook this lucky date to get married...\n\n\n
ATTACH;FMTTYPE=image/jpeg:https://themarriageoffice.com.au/wp-content/uplo
 ads/2026/01/pamela-daniel-woo-hoo.jpg
CATEGORIES:Lucky Date
LOCATION:Margaret River Marriage Office\, 1 Lovers Lane\, Cowaramup\, Weste
 rn Australia\, 6284\, Australia
X-APPLE-STRUCTURED-LOCATION;VALUE=URI;X-ADDRESS=1 Lovers Lane\, Cowaramup\,
  Western Australia\, 6284\, Australia;X-APPLE-RADIUS=100;X-TITLE=Margaret 
 River Marriage Office:geo:0,0
END:VEVENT
BEGIN:VTIMEZONE
TZID:Australia/Perth
X-LIC-LOCATION:Australia/Perth
BEGIN:STANDARD
DTSTART:20251111T000000
TZOFFSETFROM:+0800
TZOFFSETTO:+0800
TZNAME:AWST
END:STANDARD
END:VTIMEZONE
END:VCALENDAR