BEGIN:VCALENDAR
VERSION:2.0
PRODID:-//wp-events-plugin.com//7.2.3.1//EN
BEGIN:VEVENT
UID:9@themarriageoffice.com.au
DTSTART;TZID=Australia/Perth;VALUE=DATE:20260312
DTEND;TZID=Australia/Perth;VALUE=DATE:20260313
DTSTAMP:20260114T034218Z
URL:https://themarriageoffice.com.au/events/lucky-date-wedding-day-12-3-26
 /
SUMMARY:Lucky Date Wedding Day: 12 3 26
DESCRIPTION:\n\nGood Luck Wedding Dates\n12 3 26 Sometimes\, a lucky date t
 o get married comes up\, and it is too fortuitous to ignore. Hello 12 Marc
 h 2026!\nThe Marriage Office is opening for this lucky date to get married
 \n[gallery size="full" ids="1971\,1972\,1973"]\n \n\nThe Margaret River M
 arriage Office\, as you know\, is only open during school hours (or by app
 ointment)... So when a lucky date to get married comes up\, OF COURSE WE A
 RE GOING TO OPEN BEYOND OUR REGULAR HOURS!\n\n\n\n\nHellooooooo 12 March 2
 026!\n\n\n\nGetting married on 12/3/2026 carries a blend of lucky number e
 nergies that support creativity\, joy\, and new beginnings.\nThe number 1 
 symbolises leadership and fresh starts\, while 2 brings balance and partne
 rship—together\, 12 represents unity through individuality.\nThe number 
 3\, linked to the month of March\, is associated with self-expression\, ce
 lebration\, and emotional connection\, making it perfect for a joyful wedd
 ing day.\nThe full date adds up to 7 (1+2+3+2+0+2+6 = 16 → 1+6 = 7)\, a 
 number representing spiritual growth and deeper understanding.\nThis combi
 nation makes 12 March 2026 a lucky date for couples seeking a soulful\, ex
 pressive\, and harmonious union.\n\n\n\nThe end of being "single" and the 
 start of being "married"... Such good juju!\n\n\n\nBonus: it's an easy dat
 e to remember so an anniversary will never be forgotten!\n\n\n\n\nCelebran
 t Anita Revel invites you to join her at the Marriage Office on this lucky
  date to get married. Photo: Ellobova Photography\n\n\n\n\nAnd for added l
 uck\, schedule your ceremony to start within a waxing moon or on the 'upsw
 ing' of the clock—eg 4:30 and 4:59. The symbolism is that your happiness
  will keep swinging up\, too.\n\n\n\nWould you like to join us that day?\n
 \n\n\nCeremonies will be given a one-hour timeslot\, starting on the half-
 past o'clock for that extra good luck. Get in touch with your preferred ti
 me\, and let's get you hitched on this lucky date to get married!\n\n\n\nS
 tarting from 9.30am\, and available all day\, to fit in with the "upswing"
  of the clock if you wish.\n\n\n\nPsst: add a photographer to your package
 . Recommendations of our fave photographers will be emailed along with you
 r quote. The banner image on this page was taken by Ellobova Photography. 
  \nBook this lucky date to get married...\n\n\n
ATTACH;FMTTYPE=image/jpeg:https://themarriageoffice.com.au/wp-content/uplo
 ads/2025/07/MRMO-signing-landscape.jpeg
CATEGORIES:Lucky Date
LOCATION:Margaret River Marriage Office\, 1 Lovers Lane\, Cowaramup\, Weste
 rn Australia\, 6284\, Australia
X-APPLE-STRUCTURED-LOCATION;VALUE=URI;X-ADDRESS=1 Lovers Lane\, Cowaramup\,
  Western Australia\, 6284\, Australia;X-APPLE-RADIUS=100;X-TITLE=Margaret 
 River Marriage Office:geo:0,0
END:VEVENT
BEGIN:VTIMEZONE
TZID:Australia/Perth
X-LIC-LOCATION:Australia/Perth
BEGIN:STANDARD
DTSTART:20250312T000000
TZOFFSETFROM:+0800
TZOFFSETTO:+0800
TZNAME:AWST
END:STANDARD
END:VTIMEZONE
END:VCALENDAR