BEGIN:VCALENDAR
VERSION:2.0
PRODID:-//wp-events-plugin.com//7.2.3.1//EN
BEGIN:VEVENT
UID:8@themarriageoffice.com.au
DTSTART;TZID=Australia/Perth;VALUE=DATE:20260222
DTEND;TZID=Australia/Perth;VALUE=DATE:20260223
DTSTAMP:20250718T083356Z
URL:https://themarriageoffice.com.au/events/lucky-date-wedding-day-22-2-26
 /
SUMMARY:Lucky Date Wedding Day: 22 2 26
DESCRIPTION:\n\nGood Luck Wedding Dates\n22 2 26 Sometimes\, a lucky date t
 o get married comes up\, and it is too fortuitous to ignore. Hello 22 Feb 
 2026!\nThe Marriage Office is opening for this lucky date to get married\n
 [gallery size="full" ids="1971\,1972\,1973"]\n \n\nThe Margaret River Mar
 riage Office\, as you know\, is only open during school hours (or by appoi
 ntment)... So when a lucky date to get married comes up on a Sunday\, OF C
 OURSE WE ARE GOING TO OPEN BEYOND OUR REGULAR HOURS!\n\n\n\n\nHellooooooo 
 22 Feb 2026!\n\n\n\n\n\n\n\nGetting married on 22/2/2026 is considered exc
 eptionally lucky due to the powerful repetition of the number 2\, which in
  numerology symbolises harmony\, partnership\, intuition\, and balance—a
 ll ideal foundations for a strong marriage.\nThe date also contains the ma
 ster number 22\, known as the "Master Builder\," which carries energies of
  long-term vision\, stability\, and the power to turn dreams into reality.
 \nWith four 2s in the date\, the influence of love\, cooperation\, and uni
 ty is amplified.\nThis rare numerical alignment makes 22 February 2026 a h
 ighly auspicious day to begin a shared life built on mutual understanding 
 and lasting commitment.\n\n\n\n\n\n\n\nThe end of being "single" and the s
 tart of being "married"... Such good juju!\n\n\n\nBonus: it's an easy date
  to remember so an anniversary will never be forgotten!\n\n\n\n\nCelebrant
  Anita Revel invites you to join her at the Marriage Office on this lucky 
 date to get married. Photo: Ellobova Photography\n\n\n\n\nAnd for added lu
 ck\, schedule your ceremony to start within a waxing moon or on the 'upswi
 ng' of the clock—eg 4:30 and 4:59. The symbolism is that your happiness 
 will keep swinging up\, too.\n\n\n\nWould you like to join us that day?\n\
 n\n\nCeremonies will be given a one-hour timeslot\, starting on the half-p
 ast o'clock for that extra good luck. Get in touch with your preferred tim
 e\, and let's get you hitched on this lucky date to get married!\n\n\n\nSt
 arting from 9.30am\, and available all day\, to fit in with the "upswing" 
 of the clock if you wish.\n\n\n\nPsst: add a photographer to your package.
  Recommendations of our fave photographers will be emailed along with your
  quote. The banner image on this page was taken by Ellobova Photography. 
  \nBook this lucky date to get married...\n\n\n
ATTACH;FMTTYPE=image/jpeg:https://themarriageoffice.com.au/wp-content/uplo
 ads/2025/01/cropped-marriageoffice-75.jpg
CATEGORIES:Lucky Date
LOCATION:Margaret River Marriage Office\, 1 Lovers Lane\, Cowaramup\, Weste
 rn Australia\, 6284\, Australia
X-APPLE-STRUCTURED-LOCATION;VALUE=URI;X-ADDRESS=1 Lovers Lane\, Cowaramup\,
  Western Australia\, 6284\, Australia;X-APPLE-RADIUS=100;X-TITLE=Margaret 
 River Marriage Office:geo:0,0
END:VEVENT
BEGIN:VTIMEZONE
TZID:Australia/Perth
X-LIC-LOCATION:Australia/Perth
BEGIN:STANDARD
DTSTART:20250222T000000
TZOFFSETFROM:+0800
TZOFFSETTO:+0800
TZNAME:AWST
END:STANDARD
END:VTIMEZONE
END:VCALENDAR