BEGIN:VCALENDAR
VERSION:2.0
PRODID:-//wp-events-plugin.com//7.2.3.1//EN
BEGIN:VEVENT
UID:10@themarriageoffice.com.au
DTSTART;TZID=Australia/Perth;VALUE=DATE:20260424
DTEND;TZID=Australia/Perth;VALUE=DATE:20260425
DTSTAMP:20260331T055630Z
URL:https://themarriageoffice.com.au/events/lucky-date-wedding-day-24-4-26
 /
SUMMARY:Lucky Date Wedding Day: 24 4 26 FULLY BOOKED
DESCRIPTION:\n\nGood Luck Wedding Dates\n24 4 26 Sometimes\, a lucky date t
 o get married comes up\, and it is too fortuitous to ignore. Hello 24 Apri
 l 2026!\nThe Marriage Office is opening for this lucky date to get married
 \n[gallery size="full" ids="1971\,1972\,1973"]\n \n\nThe Margaret River M
 arriage Office\, as you know\, is only open during school hours (or by app
 ointment)... So when a lucky date to get married comes up on a long weeken
 d\, OF COURSE WE ARE GOING TO OPEN BEYOND OUR REGULAR HOURS!\n\n\n\n\nHell
 ooooooo 24 April 2026!\n\n\n\nGetting married on 24/4/2026 is considered a
  fortunate choice due to the grounding and harmonious energies of the numb
 ers involved.\nThe number 2 represents partnership and emotional connectio
 n\, while 4—appearing twice in the date—symbolises stability\, loyalty
 \, and building strong foundations\, all essential qualities for a lasting
  marriage.\nThe number 6 (from 2+4) is associated with love\, family\, and
  nurturing energy. When the full date is added together (2+4+4+2+0+2+6 = 2
 0 → 2+0 = 2)\, it circles back to the theme of unity and cooperation.\nT
 his date offers a powerful blend of love\, balance\, and enduring strength
 \, making it an auspicious time to begin a committed life together.\n\n\n\
 nThe end of being "single" and the start of being "married"... Such good j
 uju!\n\n\n\nBonus: it's an easy date to remember so an anniversary will ne
 ver be forgotten!\n\n\n\n\nCelebrant Anita Revel invites you to join her a
 t the Marriage Office on this lucky date to get married. Photo: Ellobova P
 hotography\n\n\n\n\nAnd for added luck\, schedule your ceremony to start w
 ithin a waxing moon or on the 'upswing' of the clock—eg 4:30 and 4:59. T
 he symbolism is that your happiness will keep swinging up\, too.\n\n\n\nWo
 uld you like to join us that day?\n\n\n\nCeremonies will be given a one-ho
 ur timeslot\, starting on the half-past o'clock for that extra good luck. 
 Get in touch with your preferred time\, and let's get you hitched on this 
 lucky date to get married!\n\n\n\nStarting from 9.30am\, and available all
  day\, to fit in with the "upswing" of the clock if you wish.\n\n\n\nPsst:
  add a photographer to your package. Recommendations of our fave photograp
 hers will be emailed along with your quote. The banner image on this page 
 was taken by Ellobova Photography.  \nBook this lucky date to get married
 ...\n\n\n
ATTACH;FMTTYPE=image/jpeg:https://themarriageoffice.com.au/wp-content/uplo
 ads/2025/07/MRMO-love-sign-anna-paul.jpg
CATEGORIES:Lucky Date
LOCATION:Margaret River Marriage Office\, 1 Lovers Lane\, Cowaramup\, Weste
 rn Australia\, 6284\, Australia
X-APPLE-STRUCTURED-LOCATION;VALUE=URI;X-ADDRESS=1 Lovers Lane\, Cowaramup\,
  Western Australia\, 6284\, Australia;X-APPLE-RADIUS=100;X-TITLE=Margaret 
 River Marriage Office:geo:0,0
END:VEVENT
BEGIN:VTIMEZONE
TZID:Australia/Perth
X-LIC-LOCATION:Australia/Perth
BEGIN:STANDARD
DTSTART:20250424T000000
TZOFFSETFROM:+0800
TZOFFSETTO:+0800
TZNAME:AWST
END:STANDARD
END:VTIMEZONE
END:VCALENDAR