BEGIN:VCALENDAR
VERSION:2.0
PRODID:-//wp-events-plugin.com//7.2.3.1//EN
BEGIN:VEVENT
UID:15@themarriageoffice.com.au
DTSTART;TZID=Australia/Perth;VALUE=DATE:20260525
DTEND;TZID=Australia/Perth;VALUE=DATE:20260526
DTSTAMP:20251125T054237Z
URL:https://themarriageoffice.com.au/events/lucky-date-wedding-day-25-5-26
 /
SUMMARY:Lucky Date Wedding Day: 25 5 26
DESCRIPTION:\n\nGood Luck Wedding Dates\n25 5 26 Sometimes\, a lucky date t
 o get married comes up\, and it is too poetic to ignore. Hello 25 May 2026
 !\nThe Marriage Office is opening for this lucky date to get married\n[gal
 lery size="full" ids="1971\,1972\,1973"]\n \n\nThe Margaret River Marriag
 e Office\, as you know\, is only open during school hours (or by appointme
 nt)... So when a lucky date to get married comes up\, OF COURSE WE ARE GOI
 NG TO OPEN BEYOND OUR REGULAR HOURS!\n\n\n\n\nHellooooooo 25 May 2026!\n\n
 \n\nNot only are the number poetic\, late May often brings a sense of calm
  and reflection following harvest\, making it a meaningful time to commit 
 to a shared future.\n\n\n\nThe end of being "single" and the start of bein
 g "married"... Such good juju!\n\n\n\nBonus: it's an easy date to remember
  so an anniversary will never be forgotten!\n\n\n\n\nCelebrant Anita Revel
  invites you to join her at the Marriage Office on this lucky date to get 
 married. Photo: Ellobova Photography\n\n\n\n\nAnd for added luck\, schedul
 e your ceremony to start within a waxing moon or on the 'upswing' of the c
 lock—eg 4:30 and 4:59. The symbolism is that your happiness will keep sw
 inging up\, too.\n\n\n\nWould you like to join us that day?\n\n\n\nCeremon
 ies will be given a one-hour timeslot\, starting on the half-past o'clock 
 for that extra good luck. Get in touch with your preferred time\, and let'
 s get you hitched on this lucky date to get married!\n\n\n\nStarting from 
 9.30am\, and available all day\, to fit in with the "upswing" of the clock
  if you wish.\n\n\n\nPsst: add a photographer to your package. Recommendat
 ions of our fave photographers will be emailed along with your quote. The 
 banner image on this page was taken by Ellobova Photography.  \nBook this
  lucky date to get married...\n\n\n
ATTACH;FMTTYPE=image/jpeg:https://themarriageoffice.com.au/wp-content/uplo
 ads/2025/02/1-marriageoffice-1-cameron-max.jpg
CATEGORIES:Lucky Date
LOCATION:Margaret River Marriage Office\, 1 Lovers Lane\, Cowaramup\, Weste
 rn Australia\, 6284\, Australia
X-APPLE-STRUCTURED-LOCATION;VALUE=URI;X-ADDRESS=1 Lovers Lane\, Cowaramup\,
  Western Australia\, 6284\, Australia;X-APPLE-RADIUS=100;X-TITLE=Margaret 
 River Marriage Office:geo:0,0
END:VEVENT
BEGIN:VTIMEZONE
TZID:Australia/Perth
X-LIC-LOCATION:Australia/Perth
BEGIN:STANDARD
DTSTART:20250525T000000
TZOFFSETFROM:+0800
TZOFFSETTO:+0800
TZNAME:AWST
END:STANDARD
END:VTIMEZONE
END:VCALENDAR