BEGIN:VCALENDAR
VERSION:2.0
PRODID:-//wp-events-plugin.com//7.2.3.1//EN
BEGIN:VEVENT
UID:6@themarriageoffice.com.au
DTSTART;TZID=Australia/Perth;VALUE=DATE:20260126
DTEND;TZID=Australia/Perth;VALUE=DATE:20260127
DTSTAMP:20251228T083441Z
URL:https://themarriageoffice.com.au/events/lucky-date-wedding-day-26-1-26
 /
SUMMARY:Lucky Date Wedding Day: 26 1 26 BOOKINGS CLOSED
DESCRIPTION:Good Luck Wedding Dates\nLooking for a good luck wedding date? 
 26 1 26\nSometimes\, a lucky date to get married comes up\, and it lands o
 n a public holiday. Hello 26 January 2026! The Marriage Office is opening 
 for this lucky date to get married.\n[gallery size="full" ids="1971\,1972\
 ,1973"]\n&nbsp\;\n\nThe Margaret River Marriage Office\, as you know\, is 
 only open during school hours (or by appointment)... So when a lucky date 
 to get married comes up\, and it falls on a public holiday\, OF COURSE WE 
 ARE GOING TO OPEN BEYOND OUR REGULAR HOURS!\n\n\n\n\nHellooooooo 26 Januar
 y 2026!\n\n\n\nFalling on Australia Day\, this lucky date carries themes o
 f unity\, celebration\, and new beginnings—perfectly aligning with the s
 pirit of marriage.\nIn numerology\, the date reduces to the number 1 (2+6+
 1+2+0+2+6 = 19\; 1+9 = 10\; 1+0 = 1)\, which symbolises fresh starts\, lea
 dership\, and forging a bold new path together as a couple.\nThe mirrored 
 2s and 6s also suggest balance\, harmony\, and love.\nAltogether\, 26 Janu
 ary 2026 embodies the energy of joyful commitment and shared purpose—an 
 auspicious foundation for a lifelong union.\n\n\n\nThe end of being "singl
 e" and the start of being "married"... Such good juju!\n\n\n\nBonus: it's 
 an easy date to remember so an anniversary will never be forgotten!\n\n\n\
 n\nCelebrant Anita Revel invites you to join her at the Marriage Office on
  this lucky date to get married. Photo: Ellobova Photography\n\n\n\n\nAnd 
 for added luck\, schedule your ceremony to start within a waxing moon or o
 n the 'upswing' of the clock—eg 4:30 and 4:59. The symbolism is that you
 r happiness will keep swinging up\, too.\n\n\n\nWould you like to join us 
 that day?\n\n\n\nCeremonies will be given a one-hour timeslot\, starting o
 n the half-past o'clock for that extra good luck. Get in touch with your p
 referred time\, and let's get you hitched on this lucky date to get marrie
 d!\n\n\n\nStarting from 9.30am\, and available all day\, to fit in with th
 e "upswing" of the clock if you wish.\n\n\n\nPsst: add a photographer to y
 our package. Recommendations of our fave photographers will be emailed alo
 ng with your quote. The banner image on this page was taken by Ellobova Ph
 otography.  \nBook this lucky date to get married...\n\n\n
ATTACH;FMTTYPE=image/jpeg:https://themarriageoffice.com.au/wp-content/uplo
 ads/2025/07/MRMO-micro-wedding.jpg
CATEGORIES:Lucky Date
LOCATION:Margaret River Marriage Office\, 1 Lovers Lane\, Cowaramup\, Weste
 rn Australia\, 6284\, Australia
X-APPLE-STRUCTURED-LOCATION;VALUE=URI;X-ADDRESS=1 Lovers Lane\, Cowaramup\,
  Western Australia\, 6284\, Australia;X-APPLE-RADIUS=100;X-TITLE=Margaret 
 River Marriage Office:geo:0,0
END:VEVENT
BEGIN:VTIMEZONE
TZID:Australia/Perth
X-LIC-LOCATION:Australia/Perth
BEGIN:STANDARD
DTSTART:20250126T000000
TZOFFSETFROM:+0800
TZOFFSETTO:+0800
TZNAME:AWST
END:STANDARD
END:VTIMEZONE
END:VCALENDAR