BEGIN:VCALENDAR
VERSION:2.0
PRODID:-//wp-events-plugin.com//7.2.3.1//EN
BEGIN:VEVENT
UID:22@themarriageoffice.com.au
DTSTART;TZID=Australia/Perth;VALUE=DATE:20261126
DTEND;TZID=Australia/Perth;VALUE=DATE:20261127
DTSTAMP:20260424T050444Z
URL:https://themarriageoffice.com.au/events/lucky-date-wedding-day-26-11-2
 6/
SUMMARY:Lucky Date Wedding: 26 11 26
DESCRIPTION:Good Luck Wedding Dates\nLooking for a good luck wedding date? 
 26 11 26\nSometimes\, a lucky date to get married comes up\, and it books 
 out quickly. Hello 26 November 26! The Marriage Office is open for this lu
 cky date to get married. \n[gallery size="full" ids="1971\,1972\,1973"]\n
 &nbsp\;\n\nWhen a lucky date to get married comes up\, OF COURSE WE ARE GO
 ING TO OPEN !\n\n\n\n\nHellooooooo 26 November 26!\nMirror numbers\, such 
 as 26:11:26\, are symmetrical\, reflective time stamps (mirror hours) or d
 igit sequences often interpreted in numerology as signs of balance\, spiri
 tual alignment\, and synchronicity.\nFrequently seeing these is commonly b
 elieved to indicate personal growth\, and twin flame connections.\nThe end
  of being "single" and the start of being "married"... Such good juju!\n\n
 \n\nBonus: it's an easy date to remember so an anniversary will never be f
 orgotten!\n\n\n\n\nCelebrant Anita Revel invites you to join her at the Ma
 rriage Office on this lucky date to get married. Photo: Ellobova Photograp
 hy\n\n\n\n\nAnd for added luck\, schedule your ceremony to start within a 
 waxing moon or on the 'upswing' of the clock—eg 4:30 and 4:59. The symbo
 lism is that your happiness will keep swinging up\, too.\n\n\n\nWould you 
 like to join us that day?\n\n\n\nCeremonies will be given a one-hour times
 lot\, starting on the half-past o'clock for that extra good luck. Get in t
 ouch with your preferred time\, and let's get you hitched on this lucky da
 te to get married!\n\n\n\nStarting from 9.30am\, and available all day\, t
 o fit in with the "upswing" of the clock if you wish.\n\n\n\nPsst: add a p
 hotographer to your package. Recommendations of our fave photographers wil
 l be emailed along with your quote. The banner image on this page was take
 n by Ellobova Photography.  \nBook this lucky date to get married...\n\n\
 n
ATTACH;FMTTYPE=image/jpeg:https://themarriageoffice.com.au/wp-content/uplo
 ads/2026/04/mrmo-brooke-thomas.jpg
CATEGORIES:Lucky Date
LOCATION:Margaret River Marriage Office\, 1 Lovers Lane\, Cowaramup\, Weste
 rn Australia\, 6284\, Australia
X-APPLE-STRUCTURED-LOCATION;VALUE=URI;X-ADDRESS=1 Lovers Lane\, Cowaramup\,
  Western Australia\, 6284\, Australia;X-APPLE-RADIUS=100;X-TITLE=Margaret 
 River Marriage Office:geo:0,0
END:VEVENT
BEGIN:VTIMEZONE
TZID:Australia/Perth
X-LIC-LOCATION:Australia/Perth
BEGIN:STANDARD
DTSTART:20251126T000000
TZOFFSETFROM:+0800
TZOFFSETTO:+0800
TZNAME:AWST
END:STANDARD
END:VTIMEZONE
END:VCALENDAR