BEGIN:VCALENDAR
VERSION:2.0
PRODID:-//wp-events-plugin.com//7.2.3.1//EN
BEGIN:VEVENT
UID:17@themarriageoffice.com.au
DTSTART;TZID=Australia/Perth;VALUE=DATE:20260826
DTEND;TZID=Australia/Perth;VALUE=DATE:20260827
DTSTAMP:20260114T040444Z
URL:https://themarriageoffice.com.au/events/lucky-date-wedding-day-26-8-26
 /
SUMMARY:Lucky Date Wedding Day: 26 8 26
DESCRIPTION:Good Luck Wedding Dates\nLooking for a good luck wedding date? 
 26 8 26\nSometimes\, a lucky date to get married comes up\, and it books o
 ut quickly. Hello 26 August 2026! The Marriage Office is opening for this 
 lucky date to get married.\n[gallery size="full" ids="1971\,1972\,1973"]\n
 &nbsp\;\n\nWhen a lucky date to get married comes up\, OF COURSE WE ARE GO
 ING TO OPEN !\n\n\n\n\nHellooooooo 26 August 2026!\n\n\n\nThe mirrored 2s 
 and 6s of this date suggest balance\, harmony\, and love.\n\n\n\nThe end o
 f being "single" and the start of being "married"... Such good juju!\n\n\n
 \nBonus: it's an easy date to remember so an anniversary will never be for
 gotten!\n\n\n\n\nCelebrant Anita Revel invites you to join her at the Marr
 iage Office on this lucky date to get married. Photo: Ellobova Photography
 \n\n\n\n\nAnd for added luck\, schedule your ceremony to start within a wa
 xing moon or on the 'upswing' of the clock—eg 4:30 and 4:59. The symboli
 sm is that your happiness will keep swinging up\, too.\n\n\n\nWould you li
 ke to join us that day?\n\n\n\nCeremonies will be given a one-hour timeslo
 t\, starting on the half-past o'clock for that extra good luck. Get in tou
 ch with your preferred time\, and let's get you hitched on this lucky date
  to get married!\n\n\n\nStarting from 9.30am\, and available all day\, to 
 fit in with the "upswing" of the clock if you wish.\n\n\n\nPsst: add a pho
 tographer to your package. Recommendations of our fave photographers will 
 be emailed along with your quote. The banner image on this page was taken 
 by Ellobova Photography.  \nBook this lucky date to get married...\n\n\n
ATTACH;FMTTYPE=image/jpeg:https://themarriageoffice.com.au/wp-content/uplo
 ads/2026/01/mrmo-street-view-couple.jpg
CATEGORIES:Lucky Date
LOCATION:Margaret River Marriage Office\, 1 Lovers Lane\, Cowaramup\, Weste
 rn Australia\, 6284\, Australia
X-APPLE-STRUCTURED-LOCATION;VALUE=URI;X-ADDRESS=1 Lovers Lane\, Cowaramup\,
  Western Australia\, 6284\, Australia;X-APPLE-RADIUS=100;X-TITLE=Margaret 
 River Marriage Office:geo:0,0
END:VEVENT
BEGIN:VTIMEZONE
TZID:Australia/Perth
X-LIC-LOCATION:Australia/Perth
BEGIN:STANDARD
DTSTART:20250826T000000
TZOFFSETFROM:+0800
TZOFFSETTO:+0800
TZNAME:AWST
END:STANDARD
END:VTIMEZONE
END:VCALENDAR