BEGIN:VCALENDAR
VERSION:2.0
PRODID:-//wp-events-plugin.com//7.2.3.1//EN
BEGIN:VEVENT
UID:19@themarriageoffice.com.au
DTSTART;TZID=Australia/Perth;VALUE=DATE:20260909
DTEND;TZID=Australia/Perth;VALUE=DATE:20260910
DTSTAMP:20260424T050610Z
URL:https://themarriageoffice.com.au/events/lucky-date-wedding-day-9-9-26/
SUMMARY:Lucky Date Wedding: 9 9 26
DESCRIPTION:Good Luck Wedding Dates\nLooking for a good luck wedding date? 
 9 9 26\nSometimes\, a lucky date to get married comes up\, and it books ou
 t quickly. Hello 9 September 2026! The Marriage Office is opening for this
  lucky date to get married. (Note the 9am and 11am slots are already booke
 d.)\n[gallery size="full" ids="1971\,1972\,1973"]\n&nbsp\;\n\nWhen a lucky
  date to get married comes up\, OF COURSE WE ARE GOING TO OPEN !\n\n\n\n\n
 Hellooooooo 9 September 2026!\n\n\n\n9/9 is considered a lucky number\, pa
 rticularly in Chinese culture\, because the number 9 (jiǔ) sounds like th
 e word for "long-lasting" or "eternity\," symbolising longevity\, prosperi
 ty\, and high success.\n\n\n\nThe end of being "single" and the start of b
 eing "married"... Such good juju!\n\n\n\nBonus: it's an easy date to remem
 ber so an anniversary will never be forgotten!\n\n\n\n\nCelebrant Anita Re
 vel invites you to join her at the Marriage Office on this lucky date to g
 et married. Photo: Ellobova Photography\n\n\n\n\nAnd for added luck\, sche
 dule your ceremony to start within a waxing moon or on the 'upswing' of th
 e clock—eg 4:30 and 4:59. The symbolism is that your happiness will keep
  swinging up\, too.\n\n\n\nWould you like to join us that day?\n\n\n\nCere
 monies will be given a one-hour timeslot\, starting on the half-past o'clo
 ck for that extra good luck. Get in touch with your preferred time\, and l
 et's get you hitched on this lucky date to get married!\n\n\n\nStarting fr
 om 9.30am\, and available all day\, to fit in with the "upswing" of the cl
 ock if you wish.\n\n\n\nPsst: add a photographer to your package. Recommen
 dations of our fave photographers will be emailed along with your quote. T
 he banner image on this page was taken by Ellobova Photography.  \nBook t
 his lucky date to get married...\n\n\n
ATTACH;FMTTYPE=image/jpeg:https://themarriageoffice.com.au/wp-content/uplo
 ads/2026/01/laura-alphie-dancing-love-sign.jpg
CATEGORIES:Lucky Date
LOCATION:Margaret River Marriage Office\, 1 Lovers Lane\, Cowaramup\, Weste
 rn Australia\, 6284\, Australia
X-APPLE-STRUCTURED-LOCATION;VALUE=URI;X-ADDRESS=1 Lovers Lane\, Cowaramup\,
  Western Australia\, 6284\, Australia;X-APPLE-RADIUS=100;X-TITLE=Margaret 
 River Marriage Office:geo:0,0
END:VEVENT
BEGIN:VTIMEZONE
TZID:Australia/Perth
X-LIC-LOCATION:Australia/Perth
BEGIN:STANDARD
DTSTART:20250909T000000
TZOFFSETFROM:+0800
TZOFFSETTO:+0800
TZNAME:AWST
END:STANDARD
END:VTIMEZONE
END:VCALENDAR