BEGIN:VCALENDAR
VERSION:2.0
PRODID:-//wp-events-plugin.com//7.2.3.1//EN
BEGIN:VEVENT
UID:12@themarriageoffice.com.au
DTSTART;TZID=Australia/Perth;VALUE=DATE:20260123
DTEND;TZID=Australia/Perth;VALUE=DATE:20260124
DTSTAMP:20251228T083417Z
URL:https://themarriageoffice.com.au/events/pop-up-wedding-margaret-river/
SUMMARY:Pop up wedding: Forest Vibes Margaret River BOOKINGS CLOSED
DESCRIPTION:Date: 23 January 2026\nTime: from 10am in two-hour slots\nLocat
 ion: Margaret River Heartland (Partner venue)\nFeatures: Big Love Tiny Cha
 pel\nINCLUDED in this Pop-Up Wedding Day in Margaret River: $1950\n\n 	Cel
 ebrant: Anita Revel*\, described as modern\, light-hearted and genuine\;\n
  	Venue: In the Big Love Tiny Chapel by the forest at Margaret River Heart
 land\;\n 	Permit: Margaret River Heartland is a partner venue — no extra
  paperwork required\;\n 	Guests: Due to limited space inside the chapel\, 
 only 2-4 witnesses can come inside with you\;\n 	Other guests: If you have
  more than two guests\, you can choose to marry on the porch of the chapel
  with guests gathered around.\n\n\n\n\nBook via: POP UP WEDDING EVENT PAGE
 \n
ATTACH;FMTTYPE=image/jpeg:https://themarriageoffice.com.au/wp-content/uplo
 ads/2025/10/Big-Love-Tiny-Chapel-at-MRH-Katy-Grant-by-Hannah.jpeg
CATEGORIES:Pop up wedding
LOCATION:Margaret River Heartland\, 356 Miamup Rd\, Cowaramup\, Western Aus
 tralia\, 6284\, Australia
X-APPLE-STRUCTURED-LOCATION;VALUE=URI;X-ADDRESS=356 Miamup Rd\, Cowaramup\,
  Western Australia\, 6284\, Australia;X-APPLE-RADIUS=100;X-TITLE=Margaret 
 River Heartland:geo:0,0
END:VEVENT
BEGIN:VTIMEZONE
TZID:Australia/Perth
X-LIC-LOCATION:Australia/Perth
BEGIN:STANDARD
DTSTART:20250123T000000
TZOFFSETFROM:+0800
TZOFFSETTO:+0800
TZNAME:AWST
END:STANDARD
END:VTIMEZONE
END:VCALENDAR